BEGIN:VCALENDAR
VERSION:2.0
PRODID:-//World Islam Expo (WIE) - ECPv6.15.10//NONSGML v1.0//EN
CALSCALE:GREGORIAN
METHOD:PUBLISH
X-ORIGINAL-URL:https://worldislamexpo.com
X-WR-CALDESC:Events for World Islam Expo (WIE)
REFRESH-INTERVAL;VALUE=DURATION:PT1H
X-Robots-Tag:noindex
X-PUBLISHED-TTL:PT1H
BEGIN:VTIMEZONE
TZID:Asia/Shanghai
BEGIN:STANDARD
TZOFFSETFROM:+0800
TZOFFSETTO:+0800
TZNAME:CST
DTSTART:20240101T000000
END:STANDARD
END:VTIMEZONE
BEGIN:VEVENT
DTSTART;TZID=Asia/Shanghai:20250907T080000
DTEND;TZID=Asia/Shanghai:20250907T170000
DTSTAMP:20260424T082244
CREATED:20250301T051540Z
LAST-MODIFIED:20250301T051542Z
UID:1290-1757232000-1757264400@worldislamexpo.com
SUMMARY:WIE Launch Summit 2025 | A Global Movement for Unity & Justice
DESCRIPTION:🌍 WIE Launch Summit 2025 | A Global Movement for Unity & Justice \n📅 Date: Sunday\, 7 September 2025 (Mawlid al-Nabi\, 12 Rabi’ al-Awwal 1447 AH)📍 Location: Singapore / Hybrid \n🔹 Join us for the historic WIE Launch Summit 2025\, where Islamic scholars\, leaders\, entrepreneurs\, and change-makers from around the world will gather to discuss the future of the Ummah. This event will serve as the official launch of World Islam Expo (WIE) and the book Dawn of Renewal: A Strategic Path to Unity & Justice. \n💡 Key Highlights:✅ Inspiring keynote speeches from top Islamic scholars & leaders✅ Panel discussions on Islamic unity\, justice & economic empowerment✅ Business & Entrepreneurship Exhibition✅ Live Nasheed Performance by Qalb Al-Ummah✅ Networking opportunities with Muslim professionals and organizations
URL:https://worldislamexpo.com/event/wie-launch-summit-2025-a-global-movement-for-unity-justice/
LOCATION:To be announced / Hybrid\, Singapore\, Singapore\, SG\, Singapore
CATEGORIES:2025,Hybrid,Remote,Singapore,WIE Events,WIE Summit
ATTACH;FMTTYPE=image/jpeg:https://worldislamexpo.com/wp-content/uploads/2025/03/WIE-Launch-Summit-2025-Event-Image-scaled.jpg
ORGANIZER;CN="World Islam Expo (WIE)":MAILTO:events@worldislamexpo.com
END:VEVENT
END:VCALENDAR